BEGIN:VCALENDAR
VERSION:2.0
PRODID:-//Wasserzentrum Bitterfeld - ECPv6.15.16//NONSGML v1.0//EN
CALSCALE:GREGORIAN
METHOD:PUBLISH
X-ORIGINAL-URL:https://wasserzentrum-bitterfeld.de
X-WR-CALDESC:Veranstaltungen für Wasserzentrum Bitterfeld
REFRESH-INTERVAL;VALUE=DURATION:PT1H
X-Robots-Tag:noindex
X-PUBLISHED-TTL:PT1H
BEGIN:VTIMEZONE
TZID:Europe/Berlin
BEGIN:DAYLIGHT
TZOFFSETFROM:+0100
TZOFFSETTO:+0200
TZNAME:CEST
DTSTART:20250330T010000
END:DAYLIGHT
BEGIN:STANDARD
TZOFFSETFROM:+0200
TZOFFSETTO:+0100
TZNAME:CET
DTSTART:20251026T010000
END:STANDARD
BEGIN:DAYLIGHT
TZOFFSETFROM:+0100
TZOFFSETTO:+0200
TZNAME:CEST
DTSTART:20260329T010000
END:DAYLIGHT
BEGIN:STANDARD
TZOFFSETFROM:+0200
TZOFFSETTO:+0100
TZNAME:CET
DTSTART:20261025T010000
END:STANDARD
BEGIN:DAYLIGHT
TZOFFSETFROM:+0100
TZOFFSETTO:+0200
TZNAME:CEST
DTSTART:20270328T010000
END:DAYLIGHT
BEGIN:STANDARD
TZOFFSETFROM:+0200
TZOFFSETTO:+0100
TZNAME:CET
DTSTART:20271031T010000
END:STANDARD
END:VTIMEZONE
BEGIN:VEVENT
DTSTART;VALUE=DATE:20260307
DTEND;VALUE=DATE:20260308
DTSTAMP:20260424T165822
CREATED:20260220T083702Z
LAST-MODIFIED:20260220T083702Z
UID:8794-1772841600-1772927999@wasserzentrum-bitterfeld.de
SUMMARY:Besucherinformation! (Wasserzentrum geschlossen)
DESCRIPTION:
URL:https://wasserzentrum-bitterfeld.de/event/besucherinformation-wasserzentrum-geschlossen/
LOCATION:Wasserzentrum Bitterfeld\, Berliner Straße 6A\, Bitterfeld-Wolfen\, Sachsen-Anhalt\, 06766\, Germany
CATEGORIES:Geschlossen
END:VEVENT
BEGIN:VEVENT
DTSTART;TZID=Europe/Berlin:20260307T190000
DTEND;TZID=Europe/Berlin:20260308T030000
DTSTAMP:20260424T165822
CREATED:20260115T135034Z
LAST-MODIFIED:20260220T085351Z
UID:8372-1772910000-1772938800@wasserzentrum-bitterfeld.de
SUMMARY:Frauentags Party
DESCRIPTION:
URL:https://wasserzentrum-bitterfeld.de/event/frauentags-party/
LOCATION:Wasserzentrum Bitterfeld\, Berliner Straße 6A\, Bitterfeld-Wolfen\, Sachsen-Anhalt\, 06766\, Germany
CATEGORIES:Veranstaltung
ATTACH;FMTTYPE=image/jpeg:https://wasserzentrum-bitterfeld.de/wp-content/uploads/2025/06/image-05-copyright.jpg
END:VEVENT
END:VCALENDAR