BEGIN:VCALENDAR
VERSION:2.0
PRODID:-//Wasserzentrum Bitterfeld - ECPv6.15.16//NONSGML v1.0//EN
CALSCALE:GREGORIAN
METHOD:PUBLISH
X-WR-CALNAME:Wasserzentrum Bitterfeld
X-ORIGINAL-URL:https://wasserzentrum-bitterfeld.de
X-WR-CALDESC:Veranstaltungen für Wasserzentrum Bitterfeld
REFRESH-INTERVAL;VALUE=DURATION:PT1H
X-Robots-Tag:noindex
X-PUBLISHED-TTL:PT1H
BEGIN:VTIMEZONE
TZID:Europe/Berlin
BEGIN:DAYLIGHT
TZOFFSETFROM:+0100
TZOFFSETTO:+0200
TZNAME:CEST
DTSTART:20250330T010000
END:DAYLIGHT
BEGIN:STANDARD
TZOFFSETFROM:+0200
TZOFFSETTO:+0100
TZNAME:CET
DTSTART:20251026T010000
END:STANDARD
BEGIN:DAYLIGHT
TZOFFSETFROM:+0100
TZOFFSETTO:+0200
TZNAME:CEST
DTSTART:20260329T010000
END:DAYLIGHT
BEGIN:STANDARD
TZOFFSETFROM:+0200
TZOFFSETTO:+0100
TZNAME:CET
DTSTART:20261025T010000
END:STANDARD
BEGIN:DAYLIGHT
TZOFFSETFROM:+0100
TZOFFSETTO:+0200
TZNAME:CEST
DTSTART:20270328T010000
END:DAYLIGHT
BEGIN:STANDARD
TZOFFSETFROM:+0200
TZOFFSETTO:+0100
TZNAME:CET
DTSTART:20271031T010000
END:STANDARD
END:VTIMEZONE
BEGIN:VEVENT
DTSTART;VALUE=DATE:20260314
DTEND;VALUE=DATE:20260316
DTSTAMP:20260424T165644
CREATED:20260220T083753Z
LAST-MODIFIED:20260220T083753Z
UID:8796-1773446400-1773619199@wasserzentrum-bitterfeld.de
SUMMARY:Besucherinformation! (Wasserzentrum geschlossen)
DESCRIPTION:
URL:https://wasserzentrum-bitterfeld.de/event/besucherinformation-wasserzentrum-geschlossen-2/
CATEGORIES:Geschlossen
END:VEVENT
END:VCALENDAR